BEGIN:VCALENDAR
VERSION:2.0
PRODID: -//Q4 Inc.//EN
METHOD:PUBLISH
BEGIN:VTIMEZONE
TZID:America/New_York
X-LIC-LOCATION:America/New_York
BEGIN:DAYLIGHT
TZOFFSETFROM:-0500
TZOFFSETTO:-0400
TZNAME:EDT
DTSTART:19700308T020000
RRULE:FREQ=YEARLY;BYMONTH=3;BYDAY=2SU
END:DAYLIGHT
BEGIN:STANDARD
TZOFFSETFROM:-0400
TZOFFSETTO:-0500
TZNAME:EST
DTSTART:19701101T020000
RRULE:FREQ=YEARLY;BYMONTH=11;BYDAY=1SU
END:STANDARD
END:VTIMEZONE
BEGIN:VEVENT
ORGANIZER:MAILTO:investor@shakeshack.com
DTSTART;TZID="America/New_York":20211104T170000
DTEND;TZID="America/New_York":20211104T180000
LOCATION:
UID:5b05b3bf-7a7e-4f53-a4c9-808c2b731a41
DTSTAMP:20260422T111713
SUMMARY:Shake Shack Third Quarter 2021 Earnings Call
DESCRIPTION: View More Information: https://investor.shakeshack.com/events-and-presentations/event-details/2021/Shake-Shack-Third-Quarter-2021-Earnings-Call-/default.aspx
URL;VALUE=URI:https://investor.shakeshack.com/events-and-presentations/event-details/2021/Shake-Shack-Third-Quarter-2021-Earnings-Call-/default.aspx
PRIORITY:5
CLASS:PUBLIC
END:VEVENT
END:VCALENDAR
